BEGIN:VCALENDAR
VERSION:2.0
PRODID:-//Tullytown Borough - ECPv6.15.12.2//NONSGML v1.0//EN
CALSCALE:GREGORIAN
METHOD:PUBLISH
X-ORIGINAL-URL:https://tullytownborough.com
X-WR-CALDESC:Events for Tullytown Borough
REFRESH-INTERVAL;VALUE=DURATION:PT1H
X-Robots-Tag:noindex
X-PUBLISHED-TTL:PT1H
BEGIN:VTIMEZONE
TZID:America/New_York
BEGIN:DAYLIGHT
TZOFFSETFROM:-0500
TZOFFSETTO:-0400
TZNAME:EDT
DTSTART:20250309T070000
END:DAYLIGHT
BEGIN:STANDARD
TZOFFSETFROM:-0400
TZOFFSETTO:-0500
TZNAME:EST
DTSTART:20251102T060000
END:STANDARD
BEGIN:DAYLIGHT
TZOFFSETFROM:-0500
TZOFFSETTO:-0400
TZNAME:EDT
DTSTART:20260308T070000
END:DAYLIGHT
BEGIN:STANDARD
TZOFFSETFROM:-0400
TZOFFSETTO:-0500
TZNAME:EST
DTSTART:20261101T060000
END:STANDARD
BEGIN:DAYLIGHT
TZOFFSETFROM:-0500
TZOFFSETTO:-0400
TZNAME:EDT
DTSTART:20270314T070000
END:DAYLIGHT
BEGIN:STANDARD
TZOFFSETFROM:-0400
TZOFFSETTO:-0500
TZNAME:EST
DTSTART:20271107T060000
END:STANDARD
END:VTIMEZONE
BEGIN:VEVENT
DTSTART;TZID=America/New_York:20260210T190000
DTEND;TZID=America/New_York:20260210T200000
DTSTAMP:20260420T032602
CREATED:20260112T171733Z
LAST-MODIFIED:20260209T185100Z
UID:5927-1770750000-1770753600@tullytownborough.com
SUMMARY:February Council Meeting
DESCRIPTION:The February meeting of the Tullytown Borough Council will be held on Tuesday\, February 10 at 7 PM at Municipal Hall. \nClick here to view Agenda:  2-10-2026 Meeting Agenda
URL:https://tullytownborough.com/event/february-council-meeting-4/
END:VEVENT
BEGIN:VEVENT
DTSTART;TZID=America/New_York:20260310T190000
DTEND;TZID=America/New_York:20260310T200000
DTSTAMP:20260420T032602
CREATED:20260304T171818Z
LAST-MODIFIED:20260309T181510Z
UID:5938-1773169200-1773172800@tullytownborough.com
SUMMARY:March Council Meeting
DESCRIPTION:The March meeting of the Tullytown Borough Council will be held on Tuesday\, March 10\, 2026 at 7 PM at  Municipal Hall\, 500 Main Street. \nClick here to view Agenda:  3-10-2026 Meeting Agenda
URL:https://tullytownborough.com/event/march-council-meeting-4/
END:VEVENT
BEGIN:VEVENT
DTSTART;TZID=America/New_York:20260414T190000
DTEND;TZID=America/New_York:20260414T200000
DTSTAMP:20260420T032602
CREATED:20260304T172540Z
LAST-MODIFIED:20260413T174321Z
UID:5940-1776193200-1776196800@tullytownborough.com
SUMMARY:April Council Meeting
DESCRIPTION:The April meeting of the Tullytown Borough Council will be held on Tuesday\, April 14\, 2026 at 7 PM at  Municipal Hall\, 500 Main Street. \nClick here to view Agenda:  4-14-2026 Meeting Agenda
URL:https://tullytownborough.com/event/april-council-meeting-3/
END:VEVENT
BEGIN:VEVENT
DTSTART;TZID=America/New_York:20260425T100000
DTEND;TZID=America/New_York:20260425T120000
DTSTAMP:20260420T032602
CREATED:20260415T152304Z
LAST-MODIFIED:20260415T152304Z
UID:5947-1777111200-1777118400@tullytownborough.com
SUMMARY:Electronics Recycling and Food Drive
DESCRIPTION:
URL:https://tullytownborough.com/event/electronics-recycling-and-food-drive/
END:VEVENT
BEGIN:VEVENT
DTSTART;TZID=America/New_York:20260512T190000
DTEND;TZID=America/New_York:20260512T200000
DTSTAMP:20260420T032602
CREATED:20260415T152502Z
LAST-MODIFIED:20260415T152502Z
UID:5950-1778612400-1778616000@tullytownborough.com
SUMMARY:May Council Meeting
DESCRIPTION:The May meeting of the Tullytown Borough Council will be held on Tuesday\, May 12\, 2026 at 7 PM at  Municipal Hall\, 500 Main Street.
URL:https://tullytownborough.com/event/may-council-meeting-3/
END:VEVENT
BEGIN:VEVENT
DTSTART;TZID=America/New_York:20260609T190000
DTEND;TZID=America/New_York:20260609T200000
DTSTAMP:20260420T032602
CREATED:20260415T152609Z
LAST-MODIFIED:20260415T152609Z
UID:5952-1781031600-1781035200@tullytownborough.com
SUMMARY:June Council Meeting
DESCRIPTION:The June meeting of the Tullytown Borough Council will be held on Tuesday\, June 9\, 2026 at 7 PM at  Municipal Hall\, 500 Main Street.
URL:https://tullytownborough.com/event/june-council-meeting-3/
END:VEVENT
END:VCALENDAR