BEGIN:VCALENDAR
VERSION:2.0
PRODID:-//Tullytown Borough - ECPv6.15.12.2//NONSGML v1.0//EN
CALSCALE:GREGORIAN
METHOD:PUBLISH
X-ORIGINAL-URL:https://tullytownborough.com
X-WR-CALDESC:Events for Tullytown Borough
REFRESH-INTERVAL;VALUE=DURATION:PT1H
X-Robots-Tag:noindex
X-PUBLISHED-TTL:PT1H
BEGIN:VTIMEZONE
TZID:America/New_York
BEGIN:DAYLIGHT
TZOFFSETFROM:-0500
TZOFFSETTO:-0400
TZNAME:EDT
DTSTART:20210314T070000
END:DAYLIGHT
BEGIN:STANDARD
TZOFFSETFROM:-0400
TZOFFSETTO:-0500
TZNAME:EST
DTSTART:20211107T060000
END:STANDARD
BEGIN:DAYLIGHT
TZOFFSETFROM:-0500
TZOFFSETTO:-0400
TZNAME:EDT
DTSTART:20220313T070000
END:DAYLIGHT
BEGIN:STANDARD
TZOFFSETFROM:-0400
TZOFFSETTO:-0500
TZNAME:EST
DTSTART:20221106T060000
END:STANDARD
BEGIN:DAYLIGHT
TZOFFSETFROM:-0500
TZOFFSETTO:-0400
TZNAME:EDT
DTSTART:20230312T070000
END:DAYLIGHT
BEGIN:STANDARD
TZOFFSETFROM:-0400
TZOFFSETTO:-0500
TZNAME:EST
DTSTART:20231105T060000
END:STANDARD
END:VTIMEZONE
BEGIN:VEVENT
DTSTART;TZID=America/New_York:20221102T190000
DTEND;TZID=America/New_York:20221102T200000
DTSTAMP:20260419T201525
CREATED:20220819T180523Z
LAST-MODIFIED:20221101T164631Z
UID:5033-1667415600-1667419200@tullytownborough.com
SUMMARY:November Council Meeting
DESCRIPTION:The November meeting of the Tullytown Borough Council will be held on Wednesday\, November 2\, 2022 at 7 PM at Tullytown Borough Hall\, 500 Main Street. \nClick here to view Agenda:  11-2-2022 Council Meeting Agenda
URL:https://tullytownborough.com/event/november-council-meeting/
END:VEVENT
BEGIN:VEVENT
DTSTART;TZID=America/New_York:20221108T070000
DTEND;TZID=America/New_York:20221108T200000
DTSTAMP:20260419T201525
CREATED:20221024T153150Z
LAST-MODIFIED:20221024T153150Z
UID:5191-1667890800-1667937600@tullytownborough.com
SUMMARY:Election Day - Admin Offices Closed
DESCRIPTION:The General Election will be held on Tuesday\, November 8th at the Tullytown Borough Municipal Hall\, 500 Main Street\, Tullytown.  Voting hours are 7 a.m. to 8 p.m. at Borough Hall.  Administrative Offices will be closed.
URL:https://tullytownborough.com/event/election-day-admin-offices-closed/
END:VEVENT
BEGIN:VEVENT
DTSTART;VALUE=DATE:20221111
DTEND;VALUE=DATE:20221112
DTSTAMP:20260419T201525
CREATED:20221024T153752Z
LAST-MODIFIED:20221024T154118Z
UID:5193-1668124800-1668211199@tullytownborough.com
SUMMARY:Veterans Day - Admin Offices Closed
DESCRIPTION:Veterans Day is observed on Friday\, November 11th.  Borough Administration Offices will be closed.
URL:https://tullytownborough.com/event/veterans-day-admin-offices-closed/
END:VEVENT
BEGIN:VEVENT
DTSTART;TZID=America/New_York:20221121T190000
DTEND;TZID=America/New_York:20221121T200000
DTSTAMP:20260419T201525
CREATED:20221110T151443Z
LAST-MODIFIED:20221118T185106Z
UID:5216-1669057200-1669060800@tullytownborough.com
SUMMARY:Special Council Meeting - November
DESCRIPTION:A special meeting of the Tullytown Borough Council will be held on November 21st at 7:00 p.m. at Tullytown Borough Municipal Hall\, 500 Main Street\, Tullytown. \nClick here to view Agenda: 11-21-2022 Council Meeting Agenda
URL:https://tullytownborough.com/event/special-council-meeting-november/
END:VEVENT
END:VCALENDAR