BEGIN:VCALENDAR
VERSION:2.0
PRODID:-//Tullytown Borough - ECPv6.15.12.2//NONSGML v1.0//EN
CALSCALE:GREGORIAN
METHOD:PUBLISH
X-ORIGINAL-URL:https://tullytownborough.com
X-WR-CALDESC:Events for Tullytown Borough
REFRESH-INTERVAL;VALUE=DURATION:PT1H
X-Robots-Tag:noindex
X-PUBLISHED-TTL:PT1H
BEGIN:VTIMEZONE
TZID:America/New_York
BEGIN:DAYLIGHT
TZOFFSETFROM:-0500
TZOFFSETTO:-0400
TZNAME:EDT
DTSTART:20220313T070000
END:DAYLIGHT
BEGIN:STANDARD
TZOFFSETFROM:-0400
TZOFFSETTO:-0500
TZNAME:EST
DTSTART:20221106T060000
END:STANDARD
BEGIN:DAYLIGHT
TZOFFSETFROM:-0500
TZOFFSETTO:-0400
TZNAME:EDT
DTSTART:20230312T070000
END:DAYLIGHT
BEGIN:STANDARD
TZOFFSETFROM:-0400
TZOFFSETTO:-0500
TZNAME:EST
DTSTART:20231105T060000
END:STANDARD
BEGIN:DAYLIGHT
TZOFFSETFROM:-0500
TZOFFSETTO:-0400
TZNAME:EDT
DTSTART:20240310T070000
END:DAYLIGHT
BEGIN:STANDARD
TZOFFSETFROM:-0400
TZOFFSETTO:-0500
TZNAME:EST
DTSTART:20241103T060000
END:STANDARD
END:VTIMEZONE
BEGIN:VEVENT
DTSTART;TZID=America/New_York:20231206T190000
DTEND;TZID=America/New_York:20231206T200000
DTSTAMP:20260421T141839
CREATED:20231117T195840Z
LAST-MODIFIED:20231205T195700Z
UID:5508-1701889200-1701892800@tullytownborough.com
SUMMARY:December Council Meeting
DESCRIPTION:The December meeting of the Tullytown Borough Council will be held on Wednesday\, December 6\, 2023 at 7 PM at Municipal Hall\, 500 Main Street\, Tullytown. \nClick here to view Agenda:  12-6-23 Council Meeting Agenda
URL:https://tullytownborough.com/event/december-council-meeting-3/
END:VEVENT
BEGIN:VEVENT
DTSTART;TZID=America/New_York:20231209T190000
DTEND;TZID=America/New_York:20231209T200000
DTSTAMP:20260421T141839
CREATED:20231205T152206Z
LAST-MODIFIED:20231205T152206Z
UID:5516-1702148400-1702152000@tullytownborough.com
SUMMARY:Tree Lighting
DESCRIPTION:Please join us for the annual Tree Lighting on Saturday\, December 9th at 7 PM at Tullytown Borough Municipal Hall.  St. Michael’s Choir will lead in caroling and cookies and cider will be provided.  Hope to see you there.
URL:https://tullytownborough.com/event/tree-lighting/
END:VEVENT
END:VCALENDAR