BEGIN:VCALENDAR
VERSION:2.0
PRODID:-//Tullytown Borough - ECPv6.15.12.2//NONSGML v1.0//EN
CALSCALE:GREGORIAN
METHOD:PUBLISH
X-ORIGINAL-URL:https://tullytownborough.com
X-WR-CALDESC:Events for Tullytown Borough
REFRESH-INTERVAL;VALUE=DURATION:PT1H
X-Robots-Tag:noindex
X-PUBLISHED-TTL:PT1H
BEGIN:VTIMEZONE
TZID:America/New_York
BEGIN:DAYLIGHT
TZOFFSETFROM:-0500
TZOFFSETTO:-0400
TZNAME:EDT
DTSTART:20230312T070000
END:DAYLIGHT
BEGIN:STANDARD
TZOFFSETFROM:-0400
TZOFFSETTO:-0500
TZNAME:EST
DTSTART:20231105T060000
END:STANDARD
BEGIN:DAYLIGHT
TZOFFSETFROM:-0500
TZOFFSETTO:-0400
TZNAME:EDT
DTSTART:20240310T070000
END:DAYLIGHT
BEGIN:STANDARD
TZOFFSETFROM:-0400
TZOFFSETTO:-0500
TZNAME:EST
DTSTART:20241103T060000
END:STANDARD
BEGIN:DAYLIGHT
TZOFFSETFROM:-0500
TZOFFSETTO:-0400
TZNAME:EDT
DTSTART:20250309T070000
END:DAYLIGHT
BEGIN:STANDARD
TZOFFSETFROM:-0400
TZOFFSETTO:-0500
TZNAME:EST
DTSTART:20251102T060000
END:STANDARD
END:VTIMEZONE
BEGIN:VEVENT
DTSTART;TZID=America/New_York:20240420T100000
DTEND;TZID=America/New_York:20240420T140000
DTSTAMP:20260421T071725
CREATED:20240402T180548Z
LAST-MODIFIED:20240402T180548Z
UID:5594-1713607200-1713621600@tullytownborough.com
SUMMARY:Tullytown Earth Day Clean Up
DESCRIPTION:The Tullytown Borough Earth Day Clean Up will be held on April 20th from 10 am to 2 pm at Tullytown Borough Park and Canal’s End Park.  Refreshments will be available.  Any questions call Chris at 215-913-0742.
URL:https://tullytownborough.com/event/tullytown-earth-day-clean-up/
END:VEVENT
BEGIN:VEVENT
DTSTART;TZID=America/New_York:20240423T070000
DTEND;TZID=America/New_York:20240423T200000
DTSTAMP:20260421T071725
CREATED:20240418T175453Z
LAST-MODIFIED:20240418T175529Z
UID:5607-1713855600-1713902400@tullytownborough.com
SUMMARY:Primary Election Day
DESCRIPTION:Primary Election Day is Tuesday\, April 23rd from 7 am to 8 pm at the Tullytown Borough Municipal Hall\, 500 Main Street.
URL:https://tullytownborough.com/event/primary-election-day-4-23-2024/
END:VEVENT
END:VCALENDAR