BEGIN:VCALENDAR
VERSION:2.0
PRODID:-//Tullytown Borough - ECPv6.15.12.2//NONSGML v1.0//EN
CALSCALE:GREGORIAN
METHOD:PUBLISH
X-ORIGINAL-URL:https://tullytownborough.com
X-WR-CALDESC:Events for Tullytown Borough
REFRESH-INTERVAL;VALUE=DURATION:PT1H
X-Robots-Tag:noindex
X-PUBLISHED-TTL:PT1H
BEGIN:VTIMEZONE
TZID:America/New_York
BEGIN:DAYLIGHT
TZOFFSETFROM:-0500
TZOFFSETTO:-0400
TZNAME:EDT
DTSTART:20230312T070000
END:DAYLIGHT
BEGIN:STANDARD
TZOFFSETFROM:-0400
TZOFFSETTO:-0500
TZNAME:EST
DTSTART:20231105T060000
END:STANDARD
BEGIN:DAYLIGHT
TZOFFSETFROM:-0500
TZOFFSETTO:-0400
TZNAME:EDT
DTSTART:20240310T070000
END:DAYLIGHT
BEGIN:STANDARD
TZOFFSETFROM:-0400
TZOFFSETTO:-0500
TZNAME:EST
DTSTART:20241103T060000
END:STANDARD
BEGIN:DAYLIGHT
TZOFFSETFROM:-0500
TZOFFSETTO:-0400
TZNAME:EDT
DTSTART:20250309T070000
END:DAYLIGHT
BEGIN:STANDARD
TZOFFSETFROM:-0400
TZOFFSETTO:-0500
TZNAME:EST
DTSTART:20251102T060000
END:STANDARD
END:VTIMEZONE
BEGIN:VEVENT
DTSTART;TZID=America/New_York:20240808T180000
DTEND;TZID=America/New_York:20240808T190000
DTSTAMP:20260420T234706
CREATED:20240624T165007Z
LAST-MODIFIED:20240730T183210Z
UID:5673-1723140000-1723143600@tullytownborough.com
SUMMARY:Civil Service Commission Meeting
DESCRIPTION:The Civil Service Commission of the Borough of Tullytown\, Pennsylvania will meet on Thursday\, August 8\, 2024 at 6 PM at Municipal Hall\, 500 Main Street\, for the purposes of consideration of new police officer hiring.
URL:https://tullytownborough.com/event/civil-service-commission-meeting-2/
END:VEVENT
BEGIN:VEVENT
DTSTART;TZID=America/New_York:20240813T190000
DTEND;TZID=America/New_York:20240813T200000
DTSTAMP:20260420T234706
CREATED:20240705T175438Z
LAST-MODIFIED:20240812T173712Z
UID:5683-1723575600-1723579200@tullytownborough.com
SUMMARY:August Council Meeting
DESCRIPTION:The August meeting of the Tullytown Borough Council will be held on Tuesday\, August 13\, 2024 at 7 PM at Municipal Hall\, 500 Main Street. \nClick here to view Agenda:  8-13-24 Meeting Agenda
URL:https://tullytownborough.com/event/august-council-meeting/
END:VEVENT
END:VCALENDAR