BEGIN:VCALENDAR
VERSION:2.0
PRODID:-//Tullytown Borough - ECPv6.15.12.2//NONSGML v1.0//EN
CALSCALE:GREGORIAN
METHOD:PUBLISH
X-WR-CALNAME:Tullytown Borough
X-ORIGINAL-URL:https://tullytownborough.com
X-WR-CALDESC:Events for Tullytown Borough
REFRESH-INTERVAL;VALUE=DURATION:PT1H
X-Robots-Tag:noindex
X-PUBLISHED-TTL:PT1H
BEGIN:VTIMEZONE
TZID:America/New_York
BEGIN:DAYLIGHT
TZOFFSETFROM:-0500
TZOFFSETTO:-0400
TZNAME:EDT
DTSTART:20230312T070000
END:DAYLIGHT
BEGIN:STANDARD
TZOFFSETFROM:-0400
TZOFFSETTO:-0500
TZNAME:EST
DTSTART:20231105T060000
END:STANDARD
BEGIN:DAYLIGHT
TZOFFSETFROM:-0500
TZOFFSETTO:-0400
TZNAME:EDT
DTSTART:20240310T070000
END:DAYLIGHT
BEGIN:STANDARD
TZOFFSETFROM:-0400
TZOFFSETTO:-0500
TZNAME:EST
DTSTART:20241103T060000
END:STANDARD
BEGIN:DAYLIGHT
TZOFFSETFROM:-0500
TZOFFSETTO:-0400
TZNAME:EDT
DTSTART:20250309T070000
END:DAYLIGHT
BEGIN:STANDARD
TZOFFSETFROM:-0400
TZOFFSETTO:-0500
TZNAME:EST
DTSTART:20251102T060000
END:STANDARD
END:VTIMEZONE
BEGIN:VEVENT
DTSTART;VALUE=DATE:20241014
DTEND;VALUE=DATE:20241015
DTSTAMP:20260420T195840
CREATED:20241010T133901Z
LAST-MODIFIED:20241010T133901Z
UID:5726-1728864000-1728950399@tullytownborough.com
SUMMARY:Admin Offices Closed Monday\, 10-14-24
DESCRIPTION:The Tullytown Borough administrative offices will be closed for the holiday on Monday\, October 14\, 2024.
URL:https://tullytownborough.com/event/admin-offices-closed-monday-10-14-24/
END:VEVENT
BEGIN:VEVENT
DTSTART;TZID=America/New_York:20241015T190000
DTEND;TZID=America/New_York:20241015T200000
DTSTAMP:20260420T195840
CREATED:20240805T150942Z
LAST-MODIFIED:20241011T161136Z
UID:5691-1729018800-1729022400@tullytownborough.com
SUMMARY:October Council Meeting
DESCRIPTION:The October meeting of the Tullytown Borough Council has been rescheduled and will be held on Tuesday\, October 15\, 2024 at 7 PM at Municipal Hall\, 500 Main Street. \nClick here to view Agenda:  10-15-24 Meeting Agenda \n 
URL:https://tullytownborough.com/event/october-council-meeting-3/
END:VEVENT
END:VCALENDAR