BEGIN:VCALENDAR
VERSION:2.0
PRODID:-//Tullytown Borough - ECPv6.15.12.2//NONSGML v1.0//EN
CALSCALE:GREGORIAN
METHOD:PUBLISH
X-WR-CALNAME:Tullytown Borough
X-ORIGINAL-URL:https://tullytownborough.com
X-WR-CALDESC:Events for Tullytown Borough
REFRESH-INTERVAL;VALUE=DURATION:PT1H
X-Robots-Tag:noindex
X-PUBLISHED-TTL:PT1H
BEGIN:VTIMEZONE
TZID:America/New_York
BEGIN:DAYLIGHT
TZOFFSETFROM:-0500
TZOFFSETTO:-0400
TZNAME:EDT
DTSTART:20230312T070000
END:DAYLIGHT
BEGIN:STANDARD
TZOFFSETFROM:-0400
TZOFFSETTO:-0500
TZNAME:EST
DTSTART:20231105T060000
END:STANDARD
BEGIN:DAYLIGHT
TZOFFSETFROM:-0500
TZOFFSETTO:-0400
TZNAME:EDT
DTSTART:20240310T070000
END:DAYLIGHT
BEGIN:STANDARD
TZOFFSETFROM:-0400
TZOFFSETTO:-0500
TZNAME:EST
DTSTART:20241103T060000
END:STANDARD
BEGIN:DAYLIGHT
TZOFFSETFROM:-0500
TZOFFSETTO:-0400
TZNAME:EDT
DTSTART:20250309T070000
END:DAYLIGHT
BEGIN:STANDARD
TZOFFSETFROM:-0400
TZOFFSETTO:-0500
TZNAME:EST
DTSTART:20251102T060000
END:STANDARD
END:VTIMEZONE
BEGIN:VEVENT
DTSTART;TZID=America/New_York:20241105T070000
DTEND;TZID=America/New_York:20241105T200000
DTSTAMP:20260420T180950
CREATED:20241101T140245Z
LAST-MODIFIED:20241101T140245Z
UID:5753-1730790000-1730836800@tullytownborough.com
SUMMARY:Election Day
DESCRIPTION:Tuesday\, November 5th is Election Day.  Voting hours are 7 AM to 8 PM at Municipal Hall\, 500 Main Street.  Administrative Offices will be closed.
URL:https://tullytownborough.com/event/election-day/
END:VEVENT
BEGIN:VEVENT
DTSTART;VALUE=DATE:20241111
DTEND;VALUE=DATE:20241112
DTSTAMP:20260420T180950
CREATED:20241107T143941Z
LAST-MODIFIED:20241107T144853Z
UID:5755-1731283200-1731369599@tullytownborough.com
SUMMARY:Veterans Day
DESCRIPTION:The administrative offices will be closed for the holiday on Monday\, November 11th.  There will be no bulk or yard waste pickups.
URL:https://tullytownborough.com/event/veterans-day/
END:VEVENT
BEGIN:VEVENT
DTSTART;TZID=America/New_York:20241112T190000
DTEND;TZID=America/New_York:20241112T200000
DTSTAMP:20260420T180950
CREATED:20240920T141953Z
LAST-MODIFIED:20241108T193950Z
UID:5714-1731438000-1731441600@tullytownborough.com
SUMMARY:November Council Meeting
DESCRIPTION:The November Council Meeting will be held on Tuesday\, November 12\, 2024 at 7 PM at Municipal Hall\, 500 Main Street\, Tullytown. \nClick here to view Agenda:  11-12-24 Meeting Agenda
URL:https://tullytownborough.com/event/november-council-meeting-3/
END:VEVENT
BEGIN:VEVENT
DTSTART;VALUE=DATE:20241128
DTEND;VALUE=DATE:20241130
DTSTAMP:20260420T180950
CREATED:20241118T152723Z
LAST-MODIFIED:20241118T152723Z
UID:5767-1732752000-1732924799@tullytownborough.com
SUMMARY:Thanksgiving Holiday
DESCRIPTION:The Tullytown Borough Administrative offices will be closed on Thursday\, November 28th and Friday\, November 29th for the holiday.  There will be no bulk or yard waste pickups.
URL:https://tullytownborough.com/event/thanksgiving-holiday/
END:VEVENT
END:VCALENDAR