BEGIN:VCALENDAR
VERSION:2.0
PRODID:-//Tullytown Borough - ECPv6.15.12.2//NONSGML v1.0//EN
CALSCALE:GREGORIAN
METHOD:PUBLISH
X-ORIGINAL-URL:https://tullytownborough.com
X-WR-CALDESC:Events for Tullytown Borough
REFRESH-INTERVAL;VALUE=DURATION:PT1H
X-Robots-Tag:noindex
X-PUBLISHED-TTL:PT1H
BEGIN:VTIMEZONE
TZID:America/New_York
BEGIN:DAYLIGHT
TZOFFSETFROM:-0500
TZOFFSETTO:-0400
TZNAME:EDT
DTSTART:20240310T070000
END:DAYLIGHT
BEGIN:STANDARD
TZOFFSETFROM:-0400
TZOFFSETTO:-0500
TZNAME:EST
DTSTART:20241103T060000
END:STANDARD
BEGIN:DAYLIGHT
TZOFFSETFROM:-0500
TZOFFSETTO:-0400
TZNAME:EDT
DTSTART:20250309T070000
END:DAYLIGHT
BEGIN:STANDARD
TZOFFSETFROM:-0400
TZOFFSETTO:-0500
TZNAME:EST
DTSTART:20251102T060000
END:STANDARD
BEGIN:DAYLIGHT
TZOFFSETFROM:-0500
TZOFFSETTO:-0400
TZNAME:EDT
DTSTART:20260308T070000
END:DAYLIGHT
BEGIN:STANDARD
TZOFFSETFROM:-0400
TZOFFSETTO:-0500
TZNAME:EST
DTSTART:20261101T060000
END:STANDARD
END:VTIMEZONE
BEGIN:VEVENT
DTSTART;TZID=America/New_York:20250408T190000
DTEND;TZID=America/New_York:20250408T200000
DTSTAMP:20260420T091850
CREATED:20250116T163851Z
LAST-MODIFIED:20250407T173812Z
UID:5788-1744138800-1744142400@tullytownborough.com
SUMMARY:April Council Meeting
DESCRIPTION:The April meeting of the Tullytown Borough Council will be held on Tuesday\, April 8\, 2025 at 7  PM at Municipal Hall\, 500 Main Street. \nClick here to view Agenda:  4-8-25 Meeting Agenda
URL:https://tullytownborough.com/event/5788/
END:VEVENT
BEGIN:VEVENT
DTSTART;TZID=America/New_York:20250419T100000
DTEND;TZID=America/New_York:20250419T140000
DTSTAMP:20260420T091850
CREATED:20250403T160526Z
LAST-MODIFIED:20250403T160854Z
UID:5815-1745056800-1745071200@tullytownborough.com
SUMMARY:Earth Day Clean Up
DESCRIPTION:The Annual Earth Day Clean Up will be held on Saturday\, April 19th from 10 AM to 2 PM at Tullytown Borough Hall\, Canal’s End Park and Levittown Lake. \nNo Registration Required.  Refreshments Available.  Any questions – Call Chris at 215-913-0742.
URL:https://tullytownborough.com/event/earth-day-clean-up/
END:VEVENT
BEGIN:VEVENT
DTSTART;TZID=America/New_York:20250427T140000
DTEND;TZID=America/New_York:20250427T160000
DTSTAMP:20260420T091850
CREATED:20250409T170218Z
LAST-MODIFIED:20250409T170218Z
UID:5826-1745762400-1745769600@tullytownborough.com
SUMMARY:Meet and Greet Candidates for Council
DESCRIPTION:Candidates running for office\, as well as current members of Council\, will be available for a Meet and Greet on Sunday\, April 27th from 2 PM to 4PM at Tullytown Borough Municipal Hall\, 500 Main Street.
URL:https://tullytownborough.com/event/meet-and-greet-candidates-for-council/
END:VEVENT
END:VCALENDAR