BEGIN:VCALENDAR
VERSION:2.0
PRODID:-//Tullytown Borough - ECPv6.15.12.2//NONSGML v1.0//EN
CALSCALE:GREGORIAN
METHOD:PUBLISH
X-WR-CALNAME:Tullytown Borough
X-ORIGINAL-URL:https://tullytownborough.com
X-WR-CALDESC:Events for Tullytown Borough
REFRESH-INTERVAL;VALUE=DURATION:PT1H
X-Robots-Tag:noindex
X-PUBLISHED-TTL:PT1H
BEGIN:VTIMEZONE
TZID:America/New_York
BEGIN:DAYLIGHT
TZOFFSETFROM:-0500
TZOFFSETTO:-0400
TZNAME:EDT
DTSTART:20240310T070000
END:DAYLIGHT
BEGIN:STANDARD
TZOFFSETFROM:-0400
TZOFFSETTO:-0500
TZNAME:EST
DTSTART:20241103T060000
END:STANDARD
BEGIN:DAYLIGHT
TZOFFSETFROM:-0500
TZOFFSETTO:-0400
TZNAME:EDT
DTSTART:20250309T070000
END:DAYLIGHT
BEGIN:STANDARD
TZOFFSETFROM:-0400
TZOFFSETTO:-0500
TZNAME:EST
DTSTART:20251102T060000
END:STANDARD
BEGIN:DAYLIGHT
TZOFFSETFROM:-0500
TZOFFSETTO:-0400
TZNAME:EDT
DTSTART:20260308T070000
END:DAYLIGHT
BEGIN:STANDARD
TZOFFSETFROM:-0400
TZOFFSETTO:-0500
TZNAME:EST
DTSTART:20261101T060000
END:STANDARD
END:VTIMEZONE
BEGIN:VEVENT
DTSTART;VALUE=DATE:20250704
DTEND;VALUE=DATE:20250705
DTSTAMP:20260420T033314
CREATED:20250627T161130Z
LAST-MODIFIED:20250627T161130Z
UID:5849-1751587200-1751673599@tullytownborough.com
SUMMARY:Admin Offices Closed July 4th
DESCRIPTION:The administrative offices of Tullytown Borough will be closed on Friday\, July 4th for the holiday.
URL:https://tullytownborough.com/event/admin-offices-closed-july-4th/
END:VEVENT
BEGIN:VEVENT
DTSTART;TZID=America/New_York:20250722T190000
DTEND;TZID=America/New_York:20250722T200000
DTSTAMP:20260420T033314
CREATED:20250627T155450Z
LAST-MODIFIED:20250721T142442Z
UID:5842-1753210800-1753214400@tullytownborough.com
SUMMARY:July Council Meeting - Rescheduled
DESCRIPTION:The July meeting for the Tullytown Borough Council originally scheduled for Tuesday\, July 8\, 2025 has been rescheduled for Tuesday\,  July 22\, 2025 at 7 PM at Municipal Hall\, 500 Main Street. \nClick here to view agenda:  7-22-25 Meeting Agenda \n  \n 
URL:https://tullytownborough.com/event/july-council-meeting/
END:VEVENT
END:VCALENDAR