BEGIN:VCALENDAR
VERSION:2.0
PRODID:-//Tullytown Borough - ECPv6.15.12.2//NONSGML v1.0//EN
CALSCALE:GREGORIAN
METHOD:PUBLISH
X-ORIGINAL-URL:https://tullytownborough.com
X-WR-CALDESC:Events for Tullytown Borough
REFRESH-INTERVAL;VALUE=DURATION:PT1H
X-Robots-Tag:noindex
X-PUBLISHED-TTL:PT1H
BEGIN:VTIMEZONE
TZID:America/New_York
BEGIN:DAYLIGHT
TZOFFSETFROM:-0500
TZOFFSETTO:-0400
TZNAME:EDT
DTSTART:20240310T070000
END:DAYLIGHT
BEGIN:STANDARD
TZOFFSETFROM:-0400
TZOFFSETTO:-0500
TZNAME:EST
DTSTART:20241103T060000
END:STANDARD
BEGIN:DAYLIGHT
TZOFFSETFROM:-0500
TZOFFSETTO:-0400
TZNAME:EDT
DTSTART:20250309T070000
END:DAYLIGHT
BEGIN:STANDARD
TZOFFSETFROM:-0400
TZOFFSETTO:-0500
TZNAME:EST
DTSTART:20251102T060000
END:STANDARD
BEGIN:DAYLIGHT
TZOFFSETFROM:-0500
TZOFFSETTO:-0400
TZNAME:EDT
DTSTART:20260308T070000
END:DAYLIGHT
BEGIN:STANDARD
TZOFFSETFROM:-0400
TZOFFSETTO:-0500
TZNAME:EST
DTSTART:20261101T060000
END:STANDARD
END:VTIMEZONE
BEGIN:VEVENT
DTSTART;TZID=America/New_York:20251013T190000
DTEND;TZID=America/New_York:20251013T200000
DTSTAMP:20260419T213351
CREATED:20251008T164516Z
LAST-MODIFIED:20251008T164516Z
UID:5881-1760382000-1760385600@tullytownborough.com
SUMMARY:Planning Commission Meeting
DESCRIPTION:The Tullytown Borough Planning Commission will meet on Monday\, October 13\, 2025 at Municipal Hall\, 500 Main Street. \nClick here to view Agenda:  Tullytown PC Agenda 10.13.25
URL:https://tullytownborough.com/event/planning-commission-meeting-3/
END:VEVENT
BEGIN:VEVENT
DTSTART;TZID=America/New_York:20251014T190000
DTEND;TZID=America/New_York:20251014T200000
DTSTAMP:20260419T213351
CREATED:20250814T142918Z
LAST-MODIFIED:20250814T142918Z
UID:5866-1760468400-1760472000@tullytownborough.com
SUMMARY:October Council Meeting
DESCRIPTION:The October Council meeting will be held on Tuesday\, October 14\, 2025 at 7 PM at Municipal Hall\, 500 Main Street.
URL:https://tullytownborough.com/event/october-council-meeting-4/
END:VEVENT
END:VCALENDAR